BEGIN:VCALENDAR
VERSION:2.0
PRODID:-//Get Creative in Brighton - ECPv6.15.20//NONSGML v1.0//EN
CALSCALE:GREGORIAN
METHOD:PUBLISH
X-WR-CALNAME:Get Creative in Brighton
X-ORIGINAL-URL:https://getcreativeinbrighton.com
X-WR-CALDESC:Events for Get Creative in Brighton
REFRESH-INTERVAL;VALUE=DURATION:PT1H
X-Robots-Tag:noindex
X-PUBLISHED-TTL:PT1H
BEGIN:VTIMEZONE
TZID:Europe/London
BEGIN:DAYLIGHT
TZOFFSETFROM:+0000
TZOFFSETTO:+0100
TZNAME:BST
DTSTART:20250330T010000
END:DAYLIGHT
BEGIN:STANDARD
TZOFFSETFROM:+0100
TZOFFSETTO:+0000
TZNAME:GMT
DTSTART:20251026T010000
END:STANDARD
BEGIN:DAYLIGHT
TZOFFSETFROM:+0000
TZOFFSETTO:+0100
TZNAME:BST
DTSTART:20260329T010000
END:DAYLIGHT
BEGIN:STANDARD
TZOFFSETFROM:+0100
TZOFFSETTO:+0000
TZNAME:GMT
DTSTART:20261025T010000
END:STANDARD
BEGIN:DAYLIGHT
TZOFFSETFROM:+0000
TZOFFSETTO:+0100
TZNAME:BST
DTSTART:20270328T010000
END:DAYLIGHT
BEGIN:STANDARD
TZOFFSETFROM:+0100
TZOFFSETTO:+0000
TZNAME:GMT
DTSTART:20271031T010000
END:STANDARD
END:VTIMEZONE
BEGIN:VEVENT
DTSTART;TZID=Europe/London:20260424T093000
DTEND;TZID=Europe/London:20260424T102000
DTSTAMP:20260424T112126
CREATED:20251207T195535Z
LAST-MODIFIED:20260325T135503Z
UID:10308-1777023000-1777026000@getcreativeinbrighton.com
SUMMARY:Tango Tots - 24th April
DESCRIPTION:Calling all mums\, dads\, carers\, babies and toddlers who love to boogie! \nCome and have fun learning a NEW DANCE STYLE EVERY WEEK – Dinosaur\, Fairy\, Space\, Ballet\, Pirate\, Rock ‘n’ Roll…. You name it\, we try it!Just £6.50 (or £25 for a 5 week pass) for 45mins of music\, dancing\, dressing up\, puppets\, books\, bubbles and biscuits! So partner-up\, get moving and giggle! Currently running on FRIDAYS\, 9:30-10:20am at Patcham Methodist Hall. In the Summer months\, we enjoy the fresh air and sunshine by dancing outside\, at Patcham Memorial Gardens (Old London Rd).
URL:https://getcreativeinbrighton.com/event/tango-tots-24th-april/
CATEGORIES:New Dance Style Every Week,Tango Tots
ATTACH;FMTTYPE=image/png:https://getcreativeinbrighton.com/wp-content/uploads/2017/05/tango-tots-8.png
END:VEVENT
BEGIN:VEVENT
DTSTART;TZID=Europe/London:20260424T120000
DTEND;TZID=Europe/London:20260424T150000
DTSTAMP:20260424T112126
CREATED:20260325T140712Z
LAST-MODIFIED:20260325T140712Z
UID:11324-1777032000-1777042800@getcreativeinbrighton.com
SUMMARY:Patcham Juniors LAMDA Coaching for Graded Examinations 24th April
DESCRIPTION:Patcham Juniors’ LAMDA Coaching for graded Acting Examinations (Entry Level to Grade 2). Friday afternoons. Limited places available.
URL:https://getcreativeinbrighton.com/event/patcham-juniors-lamda-coaching-and-examinations-24th-april/
LOCATION:Patcham Junior School\, Ladies Mile Road\, Brighton\, BN1 8TA\, United Kingdom
ATTACH;FMTTYPE=image/jpeg:https://getcreativeinbrighton.com/wp-content/uploads/2024/10/c93702f4-93b7-4e23-81f1-53eda121245c-e1765960491402.jpg
ORGANIZER;CN="Louisa Fitzgerald":MAILTO:Louisa@getcreativeinbrighton.com
END:VEVENT
END:VCALENDAR